BEGIN:VCALENDAR
VERSION:2.0
PRODID:-//Grüne Heppenheim - ECPv6.5.1.6//NONSGML v1.0//EN
CALSCALE:GREGORIAN
METHOD:PUBLISH
X-WR-CALNAME:Grüne Heppenheim
X-ORIGINAL-URL:https://gruene-heppenheim.de
X-WR-CALDESC:Veranstaltungen für Grüne Heppenheim
REFRESH-INTERVAL;VALUE=DURATION:PT1H
X-Robots-Tag:noindex
X-PUBLISHED-TTL:PT1H
BEGIN:VTIMEZONE
TZID:Europe/Berlin
BEGIN:DAYLIGHT
TZOFFSETFROM:+0100
TZOFFSETTO:+0200
TZNAME:CEST
DTSTART:20210328T010000
END:DAYLIGHT
BEGIN:STANDARD
TZOFFSETFROM:+0200
TZOFFSETTO:+0100
TZNAME:CET
DTSTART:20211031T010000
END:STANDARD
END:VTIMEZONE
BEGIN:VEVENT
DTSTART;TZID=Europe/Berlin:20210815T110000
DTEND;TZID=Europe/Berlin:20210815T110000
DTSTAMP:20260423T210439
CREATED:20201213T104326Z
LAST-MODIFIED:20210811T113740Z
UID:47-1629025200-1629025200@gruene-heppenheim.de
SUMMARY:Fahrradtour Heppenheim
DESCRIPTION:
URL:https://gruene-heppenheim.de/event/mitgliederversammlung-offene-fraktionssitzung/
LOCATION:Parkpaltz Friedhof Heppenheim
END:VEVENT
END:VCALENDAR