BEGIN:VCALENDAR
VERSION:2.0
PRODID:-//Grüne Heppenheim - ECPv6.5.1.6//NONSGML v1.0//EN
CALSCALE:GREGORIAN
METHOD:PUBLISH
X-ORIGINAL-URL:https://gruene-heppenheim.de
X-WR-CALDESC:Veranstaltungen für Grüne Heppenheim
REFRESH-INTERVAL;VALUE=DURATION:PT1H
X-Robots-Tag:noindex
X-PUBLISHED-TTL:PT1H
BEGIN:VTIMEZONE
TZID:Europe/Berlin
BEGIN:DAYLIGHT
TZOFFSETFROM:+0100
TZOFFSETTO:+0200
TZNAME:CEST
DTSTART:20230326T010000
END:DAYLIGHT
BEGIN:STANDARD
TZOFFSETFROM:+0200
TZOFFSETTO:+0100
TZNAME:CET
DTSTART:20231029T010000
END:STANDARD
END:VTIMEZONE
BEGIN:VEVENT
DTSTART;TZID=Europe/Berlin:20230811T080000
DTEND;TZID=Europe/Berlin:20230811T170000
DTSTAMP:20260421T212242
CREATED:20230811T124359Z
LAST-MODIFIED:20230811T131927Z
UID:1328-1691740800-1691773200@gruene-heppenheim.de
SUMMARY:Sommertour 2023
DESCRIPTION:Interesante Eindrücke bei der Sommertour im “Hinteren Bruch”: \nhttps://epaper.echo-online.de/articlecut/1003465/a53/2023-08-11_Starkenburger_Echo_Ein_Refugium_das_gepflegt_sein_will.pdf \n\nViele interessante Informationen erhielten die Mitglieder von B90/Die Grünen bei ihrer Sommertour von Günther Hagemeister (NaBU-Vorsitzender Heppenheim) \n  \nLieblingsspeise von Waschbären: Günter Hagemeister\, Vorsitzender des Nabu Heppenheim\, zeigt das Gelege von Meisen\, die aus ihrem Nistkasten vertrieben wurden. Foto: Jürgen Reinhardt \n  \n\nNicht sonderlich beliebt:  Der Götterbaum (Foto: Franz Beiwinkel)\n \nWarum ?   Siehe: https://berlin.nabu.de/tiere-und-pflanzen/pflanzen/neophyten/30281.html \n  \n\nGut getarnt (Foto M. Mitzker-Becker) \n  \n  \n               \n(Fotos: Franz Beiwinkel)                                                      Die Kornelkirsche   https://de.m.wikipedia.org/wiki/Kornelkirsche
URL:https://gruene-heppenheim.de/event/1328/
END:VEVENT
END:VCALENDAR